BEGIN:VCALENDAR
VERSION:2.0
PRODID:-//Krewe of Lafitte, Inc - ECPv6.15.20//NONSGML v1.0//EN
CALSCALE:GREGORIAN
METHOD:PUBLISH
X-WR-CALNAME:Krewe of Lafitte, Inc
X-ORIGINAL-URL:https://kreweoflafitte.com
X-WR-CALDESC:Events for Krewe of Lafitte, Inc
REFRESH-INTERVAL;VALUE=DURATION:PT1H
X-Robots-Tag:noindex
X-PUBLISHED-TTL:PT1H
BEGIN:VTIMEZONE
TZID:America/North_Dakota/Beulah
BEGIN:DAYLIGHT
TZOFFSETFROM:-0600
TZOFFSETTO:-0500
TZNAME:CDT
DTSTART:20250309T080000
END:DAYLIGHT
BEGIN:STANDARD
TZOFFSETFROM:-0500
TZOFFSETTO:-0600
TZNAME:CST
DTSTART:20251102T070000
END:STANDARD
BEGIN:DAYLIGHT
TZOFFSETFROM:-0600
TZOFFSETTO:-0500
TZNAME:CDT
DTSTART:20260308T080000
END:DAYLIGHT
BEGIN:STANDARD
TZOFFSETFROM:-0500
TZOFFSETTO:-0600
TZNAME:CST
DTSTART:20261101T070000
END:STANDARD
BEGIN:DAYLIGHT
TZOFFSETFROM:-0600
TZOFFSETTO:-0500
TZNAME:CDT
DTSTART:20270314T080000
END:DAYLIGHT
BEGIN:STANDARD
TZOFFSETFROM:-0500
TZOFFSETTO:-0600
TZNAME:CST
DTSTART:20271107T070000
END:STANDARD
END:VTIMEZONE
BEGIN:VEVENT
DTSTART;TZID=America/North_Dakota/Beulah:20260103T180000
DTEND;TZID=America/North_Dakota/Beulah:20260103T220000
DTSTAMP:20260424T054416
CREATED:20251227T165849Z
LAST-MODIFIED:20251227T165849Z
UID:1095-1767463200-1767477600@kreweoflafitte.com
SUMMARY:12th Night
DESCRIPTION:Come out for the kick-off to Mardi Gras season with the blessing of the floats!
URL:https://kreweoflafitte.com/event/12th-night/
LOCATION:AL
ORGANIZER;CN="Krewe of Lafitte":MAILTO:kol-treasurer@kreweoflafitte.com
END:VEVENT
BEGIN:VEVENT
DTSTART;TZID=America/North_Dakota/Beulah:20260114T170000
DTEND;TZID=America/North_Dakota/Beulah:20260114T200000
DTSTAMP:20260424T054416
CREATED:20251227T170259Z
LAST-MODIFIED:20251227T170259Z
UID:1098-1768410000-1768420800@kreweoflafitte.com
SUMMARY:Jan Social
DESCRIPTION:Monthly night of food and camaraderie!
URL:https://kreweoflafitte.com/event/jan-social/
LOCATION:Krewe of Lafitte\, 630 South D Street\, PENSACOLA\, FL\, 32506\, United States
ORGANIZER;CN="Krewe of Lafitte":MAILTO:kol-treasurer@kreweoflafitte.com
END:VEVENT
END:VCALENDAR